BEGIN:VCALENDAR
VERSION:2.0
PRODID:icalendar-ruby
CALSCALE:GREGORIAN
METHOD:PUBLISH
BEGIN:VEVENT
DTSTAMP:20260421T020701Z
UID:5-1394112@southviennachurch.com
DTSTART:20261011T173000Z
DTEND:20261011T184500Z
CLASS:PUBLIC
CREATED:20260420T180904
DESCRIPTION:Sunday Worship
LAST-MODIFIED:20260420T180904
LOCATION:
SUMMARY:Sunday Worship
URL;VALUE=URI:https://www.southviennachurch.com/events/sunday-worship/2026-
 10-11
END:VEVENT
END:VCALENDAR
