BEGIN:VCALENDAR
VERSION:2.0
PRODID:icalendar-ruby
CALSCALE:GREGORIAN
METHOD:PUBLISH
BEGIN:VEVENT
DTSTAMP:20260420T223128Z
UID:5-1393352@southviennachurch.com
DTSTART:20260927T173000Z
DTEND:20260927T184500Z
CLASS:PUBLIC
CREATED:20260420T125848
DESCRIPTION:Sunday Worship
LAST-MODIFIED:20260420T125848
LOCATION:
SUMMARY:Sunday Worship
URL;VALUE=URI:https://www.southviennachurch.com/events/sunday-worship/2026-
 09-27
END:VEVENT
END:VCALENDAR
