BEGIN:VCALENDAR
VERSION:2.0
PRODID:icalendar-ruby
CALSCALE:GREGORIAN
METHOD:PUBLISH
BEGIN:VEVENT
DTSTAMP:20260420T040802Z
UID:5-1391446@southviennachurch.com
DTSTART:20260712T173000Z
DTEND:20260712T184500Z
CLASS:PUBLIC
CREATED:20260419T205808
DESCRIPTION:Sunday Worship
LAST-MODIFIED:20260419T205808
LOCATION:
SUMMARY:Sunday Worship
URL;VALUE=URI:https://www.southviennachurch.com/events/sunday-worship/2026-
 07-12
END:VEVENT
END:VCALENDAR
