BEGIN:VCALENDAR
VERSION:2.0
PRODID:icalendar-ruby
CALSCALE:GREGORIAN
METHOD:PUBLISH
BEGIN:VEVENT
DTSTAMP:20260420T003211Z
UID:5-1391065@southviennachurch.com
DTSTART:20260628T173000Z
DTEND:20260628T184500Z
CLASS:PUBLIC
CREATED:20260419T172050
DESCRIPTION:Sunday Worship
LAST-MODIFIED:20260419T172050
LOCATION:
SUMMARY:Sunday Worship
URL;VALUE=URI:https://www.southviennachurch.com/events/sunday-worship/2026-
 06-28
END:VEVENT
END:VCALENDAR
