BEGIN:VCALENDAR
VERSION:2.0
PRODID:icalendar-ruby
CALSCALE:GREGORIAN
METHOD:PUBLISH
BEGIN:VEVENT
DTSTAMP:20260419T210639Z
UID:5-1390684@southviennachurch.com
DTSTART:20260614T173000Z
DTEND:20260614T184500Z
CLASS:PUBLIC
CREATED:20260419T133841
DESCRIPTION:Sunday Worship
LAST-MODIFIED:20260419T133841
LOCATION:
SUMMARY:Sunday Worship
URL;VALUE=URI:https://www.southviennachurch.com/events/sunday-worship/2026-
 06-14
END:VEVENT
END:VCALENDAR
