BEGIN:VCALENDAR
VERSION:2.0
PRODID:icalendar-ruby
CALSCALE:GREGORIAN
METHOD:PUBLISH
BEGIN:VEVENT
DTSTAMP:20260419T193412Z
UID:5-1390305@southviennachurch.com
DTSTART:20260607T173000Z
DTEND:20260607T184500Z
CLASS:PUBLIC
CREATED:20260419T095617
DESCRIPTION:Sunday Worship
LAST-MODIFIED:20260419T095617
LOCATION:
SUMMARY:Sunday Worship
URL;VALUE=URI:https://www.southviennachurch.com/events/sunday-worship/2026-
 06-07
END:VEVENT
END:VCALENDAR
