BEGIN:VCALENDAR
VERSION:2.0
PRODID:icalendar-ruby
CALSCALE:GREGORIAN
METHOD:PUBLISH
BEGIN:VEVENT
DTSTAMP:20260419T175621Z
UID:5-1390304@southviennachurch.com
DTSTART:20260531T173000Z
DTEND:20260531T184500Z
CLASS:PUBLIC
CREATED:20260419T095617
DESCRIPTION:Sunday Worship
LAST-MODIFIED:20260419T095617
LOCATION:
SUMMARY:Sunday Worship
URL;VALUE=URI:https://www.southviennachurch.com/events/sunday-worship/2026-
 05-31
END:VEVENT
END:VCALENDAR
